Package: SPONGE Version: 1.22.0 Command: /Library/Frameworks/R.framework/Resources/bin/R CMD check --install=check:SPONGE.install-out.txt --library=/Library/Frameworks/R.framework/Resources/library --no-vignettes --timings SPONGE_1.22.0.tar.gz StartedAt: 2023-10-16 07:33:54 -0400 (Mon, 16 Oct 2023) EndedAt: 2023-10-16 07:48:15 -0400 (Mon, 16 Oct 2023) EllapsedTime: 861.5 seconds RetCode: 0 Status: WARNINGS CheckDir: SPONGE.Rcheck Warnings: 5