Package: SPONGE Version: 1.22.0 Command: /Library/Frameworks/R.framework/Resources/bin/R CMD build --keep-empty-dirs --no-resave-data SPONGE StartedAt: 2023-10-15 21:38:09 -0400 (Sun, 15 Oct 2023) EndedAt: 2023-10-15 21:46:23 -0400 (Sun, 15 Oct 2023) EllapsedTime: 494.0 seconds RetCode: 0 Status: OK PackageFile: SPONGE_1.22.0.tar.gz PackageFileSize: 8.812 MiB