Package: SPONGE Version: 1.22.0 Command: rm -rf SPONGE.buildbin-libdir && mkdir SPONGE.buildbin-libdir && /Users/biocbuild/BBS/utils/build-universal.sh SPONGE_1.22.0.tar.gz /Library/Frameworks/R.framework/Resources/bin/R SPONGE.buildbin-libdir StartedAt: 2023-10-16 10:17:49 -0400 (Mon, 16 Oct 2023) EndedAt: 2023-10-16 10:21:18 -0400 (Mon, 16 Oct 2023) EllapsedTime: 209.0 seconds RetCode: 0 Status: OK PackageFile: SPONGE_1.22.0.tgz PackageFileSize: 8.563 MiB