Package: SPLINTER Version: 1.26.0 Command: F:\biocbuild\bbs-3.17-bioc\R\bin\R.exe CMD check --no-multiarch --install=check:SPLINTER.install-out.txt --library=F:\biocbuild\bbs-3.17-bioc\R\library --no-vignettes --timings SPLINTER_1.26.0.tar.gz StartedAt: 2023-10-16 07:15:22 -0400 (Mon, 16 Oct 2023) EndedAt: 2023-10-16 07:20:48 -0400 (Mon, 16 Oct 2023) EllapsedTime: 326.3 seconds RetCode: 0 Status: WARNINGS CheckDir: SPLINTER.Rcheck Warnings: 1