Package: SPLINTER Version: 1.26.0 Command: chmod a+r SPLINTER -R && F:\biocbuild\bbs-3.17-bioc\R\bin\R.exe CMD build --keep-empty-dirs --no-resave-data SPLINTER StartedAt: 2023-10-15 22:37:11 -0400 (Sun, 15 Oct 2023) EndedAt: 2023-10-15 22:38:55 -0400 (Sun, 15 Oct 2023) EllapsedTime: 103.9 seconds RetCode: 0 Status: OK PackageFile: SPLINTER_1.26.0.tar.gz PackageFileSize: 961.3 KiB