Package: SPLINTER Version: 1.26.0 Command: /home/biocbuild/bbs-3.17-bioc/R/bin/R CMD check --install=check:SPLINTER.install-out.txt --library=/home/biocbuild/bbs-3.17-bioc/R/site-library --timings SPLINTER_1.26.0.tar.gz StartedAt: 2023-10-16 01:24:34 -0400 (Mon, 16 Oct 2023) EndedAt: 2023-10-16 01:30:51 -0400 (Mon, 16 Oct 2023) EllapsedTime: 377.0 seconds RetCode: 0 Status: OK CheckDir: SPLINTER.Rcheck Warnings: 0