Package: SPLINTER Version: 1.26.0 Command: /Library/Frameworks/R.framework/Resources/bin/R CMD check --install=check:SPLINTER.install-out.txt --library=/Library/Frameworks/R.framework/Resources/library --no-vignettes --timings SPLINTER_1.26.0.tar.gz StartedAt: 2023-10-16 07:32:49 -0400 (Mon, 16 Oct 2023) EndedAt: 2023-10-16 07:45:24 -0400 (Mon, 16 Oct 2023) EllapsedTime: 755.2 seconds RetCode: 0 Status: OK CheckDir: SPLINTER.Rcheck Warnings: 0