Package: SPLINTER Version: 1.26.0 Command: rm -rf SPLINTER.buildbin-libdir && mkdir SPLINTER.buildbin-libdir && /Users/biocbuild/BBS/utils/build-universal.sh SPLINTER_1.26.0.tar.gz /Library/Frameworks/R.framework/Resources/bin/R SPLINTER.buildbin-libdir StartedAt: 2023-10-16 10:17:47 -0400 (Mon, 16 Oct 2023) EndedAt: 2023-10-16 10:20:17 -0400 (Mon, 16 Oct 2023) EllapsedTime: 151.0 seconds RetCode: 0 Status: OK PackageFile: SPLINTER_1.26.0.tgz PackageFileSize: 1.087 MiB