Package: SPIAT Version: 1.2.3 Command: F:\biocbuild\bbs-3.17-bioc\R\bin\R.exe CMD check --no-multiarch --install=check:SPIAT.install-out.txt --library=F:\biocbuild\bbs-3.17-bioc\R\library --no-vignettes --timings SPIAT_1.2.3.tar.gz StartedAt: 2023-10-16 07:10:50 -0400 (Mon, 16 Oct 2023) EndedAt: 2023-10-16 07:16:50 -0400 (Mon, 16 Oct 2023) EllapsedTime: 360.3 seconds RetCode: 0 Status: OK CheckDir: SPIAT.Rcheck Warnings: 0