Package: SPIAT Version: 1.2.3 Command: /home/biocbuild/bbs-3.17-bioc/R/bin/R CMD INSTALL SPIAT StartedAt: 2023-10-15 15:28:35 -0400 (Sun, 15 Oct 2023) EndedAt: 2023-10-15 15:29:06 -0400 (Sun, 15 Oct 2023) EllapsedTime: 30.9 seconds RetCode: 0 Status: OK