Package: SPIAT Version: 1.2.3 Command: /Library/Frameworks/R.framework/Resources/bin/R CMD build --keep-empty-dirs --no-resave-data SPIAT StartedAt: 2023-10-15 21:36:17 -0400 (Sun, 15 Oct 2023) EndedAt: 2023-10-15 21:44:31 -0400 (Sun, 15 Oct 2023) EllapsedTime: 493.1 seconds RetCode: 0 Status: OK PackageFile: SPIAT_1.2.3.tar.gz PackageFileSize: 7.185 MiB