Package: SPIAT Version: 1.2.3 Command: rm -rf SPIAT.buildbin-libdir && mkdir SPIAT.buildbin-libdir && /Users/biocbuild/BBS/utils/build-universal.sh SPIAT_1.2.3.tar.gz /Library/Frameworks/R.framework/Resources/bin/R SPIAT.buildbin-libdir StartedAt: 2023-10-16 10:17:14 -0400 (Mon, 16 Oct 2023) EndedAt: 2023-10-16 10:19:05 -0400 (Mon, 16 Oct 2023) EllapsedTime: 110.8 seconds RetCode: 0 Status: OK PackageFile: SPIAT_1.2.3.tgz PackageFileSize: 6.907 MiB