Package: SPIA Version: 2.52.0 Command: /Library/Frameworks/R.framework/Resources/bin/R CMD check --install=check:SPIA.install-out.txt --library=/Library/Frameworks/R.framework/Resources/library --no-vignettes --timings SPIA_2.52.0.tar.gz StartedAt: 2023-10-16 07:28:52 -0400 (Mon, 16 Oct 2023) EndedAt: 2023-10-16 07:43:49 -0400 (Mon, 16 Oct 2023) EllapsedTime: 896.3 seconds RetCode: 0 Status: OK CheckDir: SPIA.Rcheck Warnings: 0