Package: SNPhood Version: 1.30.0 Command: /home/biocbuild/bbs-3.17-bioc/R/bin/R CMD check --install=check:SNPhood.install-out.txt --library=/home/biocbuild/bbs-3.17-bioc/R/site-library --timings SNPhood_1.30.0.tar.gz StartedAt: 2023-10-16 01:15:31 -0400 (Mon, 16 Oct 2023) EndedAt: 2023-10-16 01:28:45 -0400 (Mon, 16 Oct 2023) EllapsedTime: 794.5 seconds RetCode: 0 Status: OK CheckDir: SNPhood.Rcheck Warnings: 0