Package: SNPediaR Version: 1.26.0 Command: F:\biocbuild\bbs-3.17-bioc\R\bin\R.exe CMD INSTALL SNPediaR StartedAt: 2023-10-15 15:54:34 -0400 (Sun, 15 Oct 2023) EndedAt: 2023-10-15 15:54:48 -0400 (Sun, 15 Oct 2023) EllapsedTime: 14.3 seconds RetCode: 0 Status: OK