Package: SNPediaR Version: 1.26.0 Command: F:\biocbuild\bbs-3.17-bioc\R\bin\R.exe CMD check --no-multiarch --install=check:SNPediaR.install-out.txt --library=F:\biocbuild\bbs-3.17-bioc\R\library --no-vignettes --timings SNPediaR_1.26.0.tar.gz StartedAt: 2023-09-11 07:25:39 -0400 (Mon, 11 Sep 2023) EndedAt: 2023-09-11 07:26:07 -0400 (Mon, 11 Sep 2023) EllapsedTime: 27.6 seconds RetCode: 1 Status: ERROR CheckDir: SNPediaR.Rcheck Warnings: NA