Package: SNPediaR Version: 1.26.0 Command: rm -rf SNPediaR.buildbin-libdir && mkdir SNPediaR.buildbin-libdir && F:\biocbuild\bbs-3.17-bioc\R\bin\R.exe CMD INSTALL --build --library=SNPediaR.buildbin-libdir SNPediaR_1.26.0.tar.gz StartedAt: 2023-09-11 10:13:24 -0400 (Mon, 11 Sep 2023) EndedAt: 2023-09-11 10:13:28 -0400 (Mon, 11 Sep 2023) EllapsedTime: 3.9 seconds RetCode: 0 Status: OK PackageFile: SNPediaR_1.26.0.zip PackageFileSize: 248.4 KiB