Package: SNPediaR Version: 1.26.0 Command: /home/biocbuild/bbs-3.17-bioc/R/bin/R CMD check --install=check:SNPediaR.install-out.txt --library=/home/biocbuild/bbs-3.17-bioc/R/site-library --timings SNPediaR_1.26.0.tar.gz StartedAt: 2023-10-16 01:15:23 -0400 (Mon, 16 Oct 2023) EndedAt: 2023-10-16 01:15:51 -0400 (Mon, 16 Oct 2023) EllapsedTime: 28.7 seconds RetCode: 0 Status: OK CheckDir: SNPediaR.Rcheck Warnings: 0