Package: SNPediaR Version: 1.26.0 Command: /home/biocbuild/bbs-3.17-bioc/R/bin/R CMD build --keep-empty-dirs --no-resave-data SNPediaR StartedAt: 2023-10-15 18:36:16 -0400 (Sun, 15 Oct 2023) EndedAt: 2023-10-15 18:36:23 -0400 (Sun, 15 Oct 2023) EllapsedTime: 6.9 seconds RetCode: 0 Status: OK PackageFile: SNPediaR_1.26.0.tar.gz PackageFileSize: 230.5 KiB