Package: SNPediaR Version: 1.26.0 Command: /Library/Frameworks/R.framework/Resources/bin/R CMD INSTALL SNPediaR StartedAt: 2023-10-15 15:09:37 -0400 (Sun, 15 Oct 2023) EndedAt: 2023-10-15 15:10:17 -0400 (Sun, 15 Oct 2023) EllapsedTime: 40.0 seconds RetCode: 0 Status: OK