Package: SNPediaR Version: 1.26.0 Command: /Library/Frameworks/R.framework/Resources/bin/R CMD build --keep-empty-dirs --no-resave-data SNPediaR StartedAt: 2023-10-15 21:28:55 -0400 (Sun, 15 Oct 2023) EndedAt: 2023-10-15 21:29:17 -0400 (Sun, 15 Oct 2023) EllapsedTime: 22.0 seconds RetCode: 0 Status: OK PackageFile: SNPediaR_1.26.0.tar.gz PackageFileSize: 230.3 KiB