Package: SNPRelate Version: 1.34.1 Command: F:\biocbuild\bbs-3.17-bioc\R\bin\R.exe CMD INSTALL SNPRelate StartedAt: 2023-10-15 15:50:57 -0400 (Sun, 15 Oct 2023) EndedAt: 2023-10-15 15:52:08 -0400 (Sun, 15 Oct 2023) EllapsedTime: 70.3 seconds RetCode: 0 Status: OK