Package: SNPRelate Version: 1.34.1 Command: rm -rf SNPRelate.buildbin-libdir && mkdir SNPRelate.buildbin-libdir && F:\biocbuild\bbs-3.17-bioc\R\bin\R.exe CMD INSTALL --build --library=SNPRelate.buildbin-libdir SNPRelate_1.34.1.tar.gz StartedAt: 2023-10-16 09:34:17 -0400 (Mon, 16 Oct 2023) EndedAt: 2023-10-16 09:35:32 -0400 (Mon, 16 Oct 2023) EllapsedTime: 75.0 seconds RetCode: 0 Status: OK PackageFile: SNPRelate_1.34.1.zip PackageFileSize: 2.654 MiB