Package: SNPRelate Version: 1.34.1 Command: /home/biocbuild/bbs-3.17-bioc/R/bin/R CMD build --keep-empty-dirs --no-resave-data SNPRelate StartedAt: 2023-10-15 18:36:17 -0400 (Sun, 15 Oct 2023) EndedAt: 2023-10-15 18:37:04 -0400 (Sun, 15 Oct 2023) EllapsedTime: 46.8 seconds RetCode: 0 Status: OK PackageFile: SNPRelate_1.34.1.tar.gz PackageFileSize: 3.043 MiB