Package: SNPRelate Version: 1.34.1 Command: /Library/Frameworks/R.framework/Resources/bin/R CMD check --install=check:SNPRelate.install-out.txt --library=/Library/Frameworks/R.framework/Resources/library --no-vignettes --timings SNPRelate_1.34.1.tar.gz StartedAt: 2023-10-16 07:20:37 -0400 (Mon, 16 Oct 2023) EndedAt: 2023-10-16 07:24:53 -0400 (Mon, 16 Oct 2023) EllapsedTime: 256.0 seconds RetCode: 0 Status: OK CheckDir: SNPRelate.Rcheck Warnings: 0