Package: SNPRelate Version: 1.34.1 Command: rm -rf SNPRelate.buildbin-libdir && mkdir SNPRelate.buildbin-libdir && /Users/biocbuild/BBS/utils/build-universal.sh SNPRelate_1.34.1.tar.gz /Library/Frameworks/R.framework/Resources/bin/R SNPRelate.buildbin-libdir StartedAt: 2023-10-16 10:15:47 -0400 (Mon, 16 Oct 2023) EndedAt: 2023-10-16 10:17:42 -0400 (Mon, 16 Oct 2023) EllapsedTime: 114.9 seconds RetCode: 0 Status: OK PackageFile: SNPRelate_1.34.1.tgz PackageFileSize: 3.562 MiB