Package: SNAGEE Version: 1.40.0 Command: rm -rf SNAGEE.buildbin-libdir && mkdir SNAGEE.buildbin-libdir && F:\biocbuild\bbs-3.17-bioc\R\bin\R.exe CMD INSTALL --build --library=SNAGEE.buildbin-libdir SNAGEE_1.40.0.tar.gz StartedAt: 2023-10-16 09:34:00 -0400 (Mon, 16 Oct 2023) EndedAt: 2023-10-16 09:34:04 -0400 (Mon, 16 Oct 2023) EllapsedTime: 3.4 seconds RetCode: 0 Status: OK PackageFile: SNAGEE_1.40.0.zip PackageFileSize: 92.4 KiB