Package: SNAGEE Version: 1.40.0 Command: /home/biocbuild/bbs-3.17-bioc/R/bin/R CMD check --install=check:SNAGEE.install-out.txt --library=/home/biocbuild/bbs-3.17-bioc/R/site-library --timings SNAGEE_1.40.0.tar.gz StartedAt: 2023-10-16 01:14:18 -0400 (Mon, 16 Oct 2023) EndedAt: 2023-10-16 01:15:58 -0400 (Mon, 16 Oct 2023) EllapsedTime: 99.6 seconds RetCode: 0 Status: OK CheckDir: SNAGEE.Rcheck Warnings: 0