Package: SNAGEE Version: 1.40.0 Command: rm -rf SNAGEE.buildbin-libdir && mkdir SNAGEE.buildbin-libdir && /Users/biocbuild/BBS/utils/build-universal.sh SNAGEE_1.40.0.tar.gz /Library/Frameworks/R.framework/Resources/bin/R SNAGEE.buildbin-libdir StartedAt: 2023-10-16 10:15:27 -0400 (Mon, 16 Oct 2023) EndedAt: 2023-10-16 10:15:33 -0400 (Mon, 16 Oct 2023) EllapsedTime: 6.3 seconds RetCode: 0 Status: OK PackageFile: SNAGEE_1.40.0.tgz PackageFileSize: 186.6 KiB