Package: SMAP Version: 1.64.0 Command: chmod a+r SMAP -R && F:\biocbuild\bbs-3.17-bioc\R\bin\R.exe CMD build --keep-empty-dirs --no-resave-data SMAP StartedAt: 2023-10-15 22:28:13 -0400 (Sun, 15 Oct 2023) EndedAt: 2023-10-15 22:28:42 -0400 (Sun, 15 Oct 2023) EllapsedTime: 29.2 seconds RetCode: 0 Status: OK PackageFile: SMAP_1.64.0.tar.gz PackageFileSize: 4.252 MiB