Package: SMAP Version: 1.64.0 Command: rm -rf SMAP.buildbin-libdir && mkdir SMAP.buildbin-libdir && F:\biocbuild\bbs-3.17-bioc\R\bin\R.exe CMD INSTALL --build --library=SMAP.buildbin-libdir SMAP_1.64.0.tar.gz StartedAt: 2023-10-16 09:33:56 -0400 (Mon, 16 Oct 2023) EndedAt: 2023-10-16 09:34:15 -0400 (Mon, 16 Oct 2023) EllapsedTime: 18.7 seconds RetCode: 0 Status: OK PackageFile: SMAP_1.64.0.zip PackageFileSize: 4.485 MiB