Package: SMAP Version: 1.64.0 Command: /home/biocbuild/bbs-3.17-bioc/R/bin/R CMD check --install=check:SMAP.install-out.txt --library=/home/biocbuild/bbs-3.17-bioc/R/site-library --timings SMAP_1.64.0.tar.gz StartedAt: 2023-10-16 01:13:52 -0400 (Mon, 16 Oct 2023) EndedAt: 2023-10-16 01:14:31 -0400 (Mon, 16 Oct 2023) EllapsedTime: 39.0 seconds RetCode: 0 Status: OK CheckDir: SMAP.Rcheck Warnings: 0