Package: SMAP Version: 1.64.0 Command: /Library/Frameworks/R.framework/Resources/bin/R CMD check --install=check:SMAP.install-out.txt --library=/Library/Frameworks/R.framework/Resources/library --no-vignettes --timings SMAP_1.64.0.tar.gz StartedAt: 2023-10-16 07:17:23 -0400 (Mon, 16 Oct 2023) EndedAt: 2023-10-16 07:18:40 -0400 (Mon, 16 Oct 2023) EllapsedTime: 76.2 seconds RetCode: 0 Status: OK CheckDir: SMAP.Rcheck Warnings: 0