Package: SMAP Version: 1.64.0 Command: /Library/Frameworks/R.framework/Resources/bin/R CMD build --keep-empty-dirs --no-resave-data SMAP StartedAt: 2023-10-15 21:28:04 -0400 (Sun, 15 Oct 2023) EndedAt: 2023-10-15 21:28:57 -0400 (Sun, 15 Oct 2023) EllapsedTime: 53.8 seconds RetCode: 0 Status: OK PackageFile: SMAP_1.64.0.tar.gz PackageFileSize: 4.375 MiB