Package: SISPA Version: 1.30.0 Command: F:\biocbuild\bbs-3.17-bioc\R\bin\R.exe CMD check --no-multiarch --install=check:SISPA.install-out.txt --library=F:\biocbuild\bbs-3.17-bioc\R\library --no-vignettes --timings SISPA_1.30.0.tar.gz StartedAt: 2023-10-16 06:58:37 -0400 (Mon, 16 Oct 2023) EndedAt: 2023-10-16 07:02:14 -0400 (Mon, 16 Oct 2023) EllapsedTime: 217.5 seconds RetCode: 0 Status: OK CheckDir: SISPA.Rcheck Warnings: 0