Package: SISPA Version: 1.30.0 Command: chmod a+r SISPA -R && F:\biocbuild\bbs-3.17-bioc\R\bin\R.exe CMD build --keep-empty-dirs --no-resave-data SISPA StartedAt: 2023-10-15 22:27:16 -0400 (Sun, 15 Oct 2023) EndedAt: 2023-10-15 22:28:06 -0400 (Sun, 15 Oct 2023) EllapsedTime: 50.4 seconds RetCode: 0 Status: OK PackageFile: SISPA_1.30.0.tar.gz PackageFileSize: 180.3 KiB