Package: SISPA Version: 1.30.0 Command: rm -rf SISPA.buildbin-libdir && mkdir SISPA.buildbin-libdir && F:\biocbuild\bbs-3.17-bioc\R\bin\R.exe CMD INSTALL --build --library=SISPA.buildbin-libdir SISPA_1.30.0.tar.gz StartedAt: 2023-10-16 09:33:32 -0400 (Mon, 16 Oct 2023) EndedAt: 2023-10-16 09:34:13 -0400 (Mon, 16 Oct 2023) EllapsedTime: 40.8 seconds RetCode: 0 Status: OK PackageFile: SISPA_1.30.0.zip PackageFileSize: 147.5 KiB