Package: SISPA Version: 1.30.0 Command: /home/biocbuild/bbs-3.17-bioc/R/bin/R CMD check --install=check:SISPA.install-out.txt --library=/home/biocbuild/bbs-3.17-bioc/R/site-library --timings SISPA_1.30.0.tar.gz StartedAt: 2023-10-16 01:11:22 -0400 (Mon, 16 Oct 2023) EndedAt: 2023-10-16 01:15:22 -0400 (Mon, 16 Oct 2023) EllapsedTime: 240.0 seconds RetCode: 1 Status: ERROR CheckDir: SISPA.Rcheck Warnings: NA