Package: SISPA Version: 1.30.0 Command: /Library/Frameworks/R.framework/Resources/bin/R CMD INSTALL SISPA StartedAt: 2023-10-15 16:18:10 -0400 (Sun, 15 Oct 2023) EndedAt: 2023-10-15 16:19:56 -0400 (Sun, 15 Oct 2023) EllapsedTime: 106.6 seconds RetCode: 0 Status: OK