Package: SISPA Version: 1.30.0 Command: /Library/Frameworks/R.framework/Resources/bin/R CMD build --keep-empty-dirs --no-resave-data SISPA StartedAt: 2023-10-15 21:25:07 -0400 (Sun, 15 Oct 2023) EndedAt: 2023-10-15 21:28:04 -0400 (Sun, 15 Oct 2023) EllapsedTime: 176.2 seconds RetCode: 0 Status: OK PackageFile: SISPA_1.30.0.tar.gz PackageFileSize: 261.9 KiB