Package: SISPA Version: 1.30.0 Command: rm -rf SISPA.buildbin-libdir && mkdir SISPA.buildbin-libdir && /Users/biocbuild/BBS/utils/build-universal.sh SISPA_1.30.0.tar.gz /Library/Frameworks/R.framework/Resources/bin/R SISPA.buildbin-libdir StartedAt: 2023-10-16 10:14:58 -0400 (Mon, 16 Oct 2023) EndedAt: 2023-10-16 10:16:33 -0400 (Mon, 16 Oct 2023) EllapsedTime: 95.1 seconds RetCode: 0 Status: OK PackageFile: SISPA_1.30.0.tgz PackageFileSize: 226.4 KiB