Package: SIMLR Version: 1.26.1 Command: /Library/Frameworks/R.framework/Resources/bin/R CMD INSTALL SIMLR StartedAt: 2023-10-15 15:08:14 -0400 (Sun, 15 Oct 2023) EndedAt: 2023-10-15 15:09:35 -0400 (Sun, 15 Oct 2023) EllapsedTime: 80.8 seconds RetCode: 0 Status: OK