Package: SIMLR Version: 1.26.1 Command: /Library/Frameworks/R.framework/Resources/bin/R CMD build --keep-empty-dirs --no-resave-data SIMLR StartedAt: 2023-10-15 21:22:59 -0400 (Sun, 15 Oct 2023) EndedAt: 2023-10-15 21:28:53 -0400 (Sun, 15 Oct 2023) EllapsedTime: 353.7 seconds RetCode: 0 Status: OK PackageFile: SIMLR_1.26.1.tar.gz PackageFileSize: 4.086 MiB