Package: SIMAT Version: 1.32.0 Command: chmod a+r SIMAT -R && F:\biocbuild\bbs-3.17-bioc\R\bin\R.exe CMD build --keep-empty-dirs --no-resave-data SIMAT StartedAt: 2023-10-15 22:24:25 -0400 (Sun, 15 Oct 2023) EndedAt: 2023-10-15 22:24:47 -0400 (Sun, 15 Oct 2023) EllapsedTime: 22.1 seconds RetCode: 0 Status: OK PackageFile: SIMAT_1.32.0.tar.gz PackageFileSize: 1002 KiB