Package: SIMAT Version: 1.32.0 Command: rm -rf SIMAT.buildbin-libdir && mkdir SIMAT.buildbin-libdir && F:\biocbuild\bbs-3.17-bioc\R\bin\R.exe CMD INSTALL --build --library=SIMAT.buildbin-libdir SIMAT_1.32.0.tar.gz StartedAt: 2023-10-16 09:32:45 -0400 (Mon, 16 Oct 2023) EndedAt: 2023-10-16 09:33:03 -0400 (Mon, 16 Oct 2023) EllapsedTime: 18.2 seconds RetCode: 0 Status: OK PackageFile: SIMAT_1.32.0.zip PackageFileSize: 1.072 MiB