Package: SIMAT Version: 1.32.0 Command: /home/biocbuild/bbs-3.17-bioc/R/bin/R CMD INSTALL SIMAT StartedAt: 2023-10-15 15:18:48 -0400 (Sun, 15 Oct 2023) EndedAt: 2023-10-15 15:18:58 -0400 (Sun, 15 Oct 2023) EllapsedTime: 9.6 seconds RetCode: 0 Status: OK