Package: SIMAT Version: 1.32.0 Command: /home/biocbuild/bbs-3.17-bioc/R/bin/R CMD build --keep-empty-dirs --no-resave-data SIMAT StartedAt: 2023-10-15 18:33:11 -0400 (Sun, 15 Oct 2023) EndedAt: 2023-10-15 18:33:28 -0400 (Sun, 15 Oct 2023) EllapsedTime: 17.2 seconds RetCode: 0 Status: OK PackageFile: SIMAT_1.32.0.tar.gz PackageFileSize: 1001 KiB