Package: SICtools Version: 1.30.0 Command: /home/biocbuild/bbs-3.17-bioc/R/bin/R CMD INSTALL SICtools StartedAt: 2023-10-15 15:20:09 -0400 (Sun, 15 Oct 2023) EndedAt: 2023-10-15 15:20:45 -0400 (Sun, 15 Oct 2023) EllapsedTime: 35.9 seconds RetCode: 0 Status: OK