Package: SICtools Version: 1.30.0 Command: /home/biocbuild/bbs-3.17-bioc/R/bin/R CMD build --keep-empty-dirs --no-resave-data SICtools StartedAt: 2023-10-15 18:32:16 -0400 (Sun, 15 Oct 2023) EndedAt: 2023-10-15 18:33:00 -0400 (Sun, 15 Oct 2023) EllapsedTime: 44.1 seconds RetCode: 0 Status: OK PackageFile: SICtools_1.30.0.tar.gz PackageFileSize: 1.531 MiB