Package: SICtools Version: 1.30.0 Command: /Library/Frameworks/R.framework/Resources/bin/R CMD check --install=check:SICtools.install-out.txt --library=/Library/Frameworks/R.framework/Resources/library --no-vignettes --timings SICtools_1.30.0.tar.gz StartedAt: 2023-10-16 07:06:25 -0400 (Mon, 16 Oct 2023) EndedAt: 2023-10-16 07:10:44 -0400 (Mon, 16 Oct 2023) EllapsedTime: 258.3 seconds RetCode: 0 Status: WARNINGS CheckDir: SICtools.Rcheck Warnings: 2